{
 "currentVersion": 10.71,
 "serviceDescription": "This service displays areas where all types of wireline and wireless broadband service is available (excluding satellite). This layer was updated in October 2014. This service is intended to be used in the Maryland Broadband Map (http://www.mdbroadbandmap.org/map/). \n\nThis service represents the National Telecommunications Information Administration (NTIA) State Broadband Data Development Program (SBDD) area of broadband availability. Area of broadband availability refers to those individual US Census Blocks, less than 2 square miles, where each facilities-based provider of broadband service can provide broadband services of minimal characteristics within 7 - 10 business days. For each area (e.g. census block less than 2 square miles) the provider name and technology they provide there are represented. In addition, advertised and typical upload and download speeds are often reported at these levels. If a provider offers availability to any location within a census block less than 2 square miles, the entire block is deemed available under this effort. For this purpose, ''broadband service'' is the provision, on either a commercial or non-commercial basis, of data transmission technology that provides two-way data transmission to and from the Internet with advertised speeds of at least 768 kilobits per second (kbps) downstream and greater than 200 kbps upstream to end users, or providing sufficient capacity in a middle mile project to support the provision of broadband service to end-users within the project area. For this purpose, an ''end user'' of broadband service is a residential or business party, institution or State or local government entity that may use broadband service for its own purposes and that does not resell such service to other entities or incorporate such service into retail Internet-access services. Internet Service Providers (ISPs) are not ''end users'' for this purpose. An entity is a ''facilities based'' provider of broadband service connections to end user locations if any of the following conditions are met: (1) It owns the portion of the physical facility that terminates at the end user location; (2) it obtains unbundled network elements (UNEs), special access lines, or other leased facilities that terminate at the end user location and provisions/equips them as broadband; or (3) it provisions/equips a broadband wireless channel to the end user location over licensed or unlicensed spectrum. For this purpose, ''broadband service'' is ''available'' at an address if the provider does, or could, within a typical service interval (7 to 10 business days) without an extraordinary commitment of resources, provision two-way data transmission to and from the Internet with advertised speeds of at least 768 kilobits per second (kbps) downstream and greater than 200 kbps upstream to end-users at that address. For additional information visit NOFA (Notice of Funding Availability) website: http://www.ntia.doc.gov/broadbandgrants/nofa.html ",
 "mapName": "Layers",
 "description": "",
 "copyrightText": "MD iMAP, The Maryland Broadband Mapping Initiative team, led by the Maryland Broadband Cooperative ",
 "supportsDynamicLayers": true,
 "layers": [
  {
   "id": 0,
   "name": "Other Copper Wireline",
   "parentLayerId": -1,
   "defaultVisibility": true,
   "subLayerIds": null,
   "minScale": 0,
   "maxScale": 0,
   "type": "Feature Layer",
   "geometryType": "esriGeometryPolygon"
  }
 ],
 "tables": [],
 "spatialReference": {
  "wkid": 102100,
  "latestWkid": 3857
 },
 "singleFusedMapCache": true,
 "tileInfo": {
  "rows": 256,
  "cols": 256,
  "dpi": 96,
  "format": "PNG32",
  "compressionQuality": 0,
  "origin": {
   "x": -2.0037508342787E7,
   "y": 2.0037508342787E7
  },
  "spatialReference": {
   "wkid": 102100,
   "latestWkid": 3857
  },
  "lods": [
   {
    "level": 0,
    "resolution": 156543.03392800014,
    "scale": 5.91657527591555E8
   },
   {
    "level": 1,
    "resolution": 78271.51696399994,
    "scale": 2.95828763795777E8
   },
   {
    "level": 2,
    "resolution": 39135.75848200009,
    "scale": 1.47914381897889E8
   },
   {
    "level": 3,
    "resolution": 19567.87924099992,
    "scale": 7.3957190948944E7
   },
   {
    "level": 4,
    "resolution": 9783.93962049996,
    "scale": 3.6978595474472E7
   },
   {
    "level": 5,
    "resolution": 4891.96981024998,
    "scale": 1.8489297737236E7
   },
   {
    "level": 6,
    "resolution": 2445.98490512499,
    "scale": 9244648.868618
   },
   {
    "level": 7,
    "resolution": 1222.992452562495,
    "scale": 4622324.434309
   },
   {
    "level": 8,
    "resolution": 611.4962262813797,
    "scale": 2311162.217155
   },
   {
    "level": 9,
    "resolution": 305.74811314055756,
    "scale": 1155581.108577
   },
   {
    "level": 10,
    "resolution": 152.87405657041106,
    "scale": 577790.554289
   },
   {
    "level": 11,
    "resolution": 76.43702828507324,
    "scale": 288895.277144
   },
   {
    "level": 12,
    "resolution": 38.21851414253662,
    "scale": 144447.638572
   },
   {
    "level": 13,
    "resolution": 19.10925707126831,
    "scale": 72223.819286
   },
   {
    "level": 14,
    "resolution": 9.554628535634155,
    "scale": 36111.909643
   },
   {
    "level": 15,
    "resolution": 4.77731426794937,
    "scale": 18055.954822
   },
   {
    "level": 16,
    "resolution": 2.388657133974685,
    "scale": 9027.977411
   },
   {
    "level": 17,
    "resolution": 1.1943285668550503,
    "scale": 4513.988705
   },
   {
    "level": 18,
    "resolution": 0.5971642835598172,
    "scale": 2256.994353
   },
   {
    "level": 19,
    "resolution": 0.29858214164761665,
    "scale": 1128.497176
   }
  ]
 },
 "initialExtent": {
  "xmin": -8716453.390143296,
  "ymin": 4702435.072103551,
  "xmax": -8374743.331723181,
  "ymax": 4857613.507460421,
  "spatialReference": {
   "wkid": 102100,
   "latestWkid": 3857
  }
 },
 "fullExtent": {
  "xmin": -8768883.6417,
  "ymin": 4588973.1862,
  "xmax": -8355048.536599999,
  "ymax": 4822977.730899997,
  "spatialReference": {
   "wkid": 102100,
   "latestWkid": 3857
  }
 },
 "minScale": 5.91657527591555E8,
 "maxScale": 1128.497176,
 "units": "esriMeters",
 "supportedImageFormatTypes": "PNG32,PNG24,PNG,JPG,DIB,TIFF,EMF,PS,PDF,GIF,SVG,SVGZ,BMP",
 "documentInfo": {
  "Title": "BB_AllBroadband",
  "Author": "clbell",
  "Comments": "This service displays areas where all types of wireline and wireless broadband service is available (excluding satellite). This layer was updated in October 2014. This service is intended to be used in the Maryland Broadband Map (http://www.mdbroadbandmap.org/map/). \n\nThis service represents the National Telecommunications Information Administration (NTIA) State Broadband Data Development Program (SBDD) area of broadband availability. Area of broadband availability refers to those individual US Census Blocks, less than 2 square miles, where each facilities-based provider of broadband service can provide broadband services of minimal characteristics within 7 - 10 business days. For each area (e.g. census block less than 2 square miles) the provider name and technology they provide there are represented. In addition, advertised and typical upload and download speeds are often reported at these levels. If a provider offers availability to any location within a census block less than 2 square miles, the entire block is deemed available under this effort. For this purpose, ''broadband service'' is the provision, on either a commercial or non-commercial basis, of data transmission technology that provides two-way data transmission to and from the Internet with advertised speeds of at least 768 kilobits per second (kbps) downstream and greater than 200 kbps upstream to end users, or providing sufficient capacity in a middle mile project to support the provision of broadband service to end-users within the project area. For this purpose, an ''end user'' of broadband service is a residential or business party, institution or State or local government entity that may use broadband service for its own purposes and that does not resell such service to other entities or incorporate such service into retail Internet-access services. Internet Service Providers (ISPs) are not ''end users'' for this purpose. An entity is a ''facilities based'' provider of broadband service connections to end user locations if any of the following conditions are met: (1) It owns the portion of the physical facility that terminates at the end user location; (2) it obtains unbundled network elements (UNEs), special access lines, or other leased facilities that terminate at the end user location and provisions/equips them as broadband; or (3) it provisions/equips a broadband wireless channel to the end user location over licensed or unlicensed spectrum. For this purpose, ''broadband service'' is ''available'' at an address if the provider does, or could, within a typical service interval (7 to 10 business days) without an extraordinary commitment of resources, provision two-way data transmission to and from the Internet with advertised speeds of at least 768 kilobits per second (kbps) downstream and greater than 200 kbps upstream to end-users at that address. For additional information visit NOFA (Notice of Funding Availability) website: http://www.ntia.doc.gov/broadbandgrants/nofa.html ",
  "Subject": "This service displays areas where all types of wireline and wireless broadband service is available (excluding satellite). This layer was updated in October 2014.",
  "Category": "",
  "AntialiasingMode": "None",
  "TextAntialiasingMode": "Force",
  "Keywords": "Utilities,Communication,Copper,Wireline,Broadband,NTIA,National Telecommunications Information Administration,cached ,Maryland,MD iMap"
 },
 "capabilities": "Map,Query,Data",
 "supportedQueryFormats": "JSON, geoJSON",
 "exportTilesAllowed": false,
 "datumTransformations": [
  {
   "geoTransforms": [
    {
     "wkid": 108001,
     "latestWkid": 1241,
     "transformForward": true,
     "name": "NAD_1927_To_NAD_1983_NADCON"
    }
   ]
  },
  {
   "geoTransforms": [
    {
     "wkid": 108001,
     "latestWkid": 1241,
     "transformForward": false,
     "name": "NAD_1927_To_NAD_1983_NADCON"
    }
   ]
  }
 ],
 "supportsDatumTransformation": true,
 "maxRecordCount": 1000,
 "maxImageHeight": 4096,
 "maxImageWidth": 4096,
 "supportedExtensions": "KmlServer"
}
