View In:
ArcGIS JavaScript
ArcGIS Online Map Viewer
ArcGIS Earth
ArcMap
View Footprint In:
ArcGIS Online Map Viewer
Service Description: Maryland aboveground biomass map (30m) generated using Random Forests regression models. High Resolution Carbon Monitoring and Modeling: A NASA CMS Phase II Study
Last Updated: 2011
Name: Biota/MD_Biomass
Description: Maryland aboveground biomass map (30m) generated using Random Forests regression models. High Resolution Carbon Monitoring and Modeling: A NASA CMS Phase II Study
Last Updated: 2011
Single Fused Map Cache: false
Extent:
XMin: -8852159.131992813
YMin: 4555746.948672834
XMax: -8354369.131992811
YMax: 4838016.948672835
Spatial Reference: 102100
(3857)
Initial Extent:
XMin: -8852159.131992813
YMin: 4555746.948672834
XMax: -8354369.131992811
YMax: 4838016.948672835
Spatial Reference: 102100
(3857)
Full Extent:
XMin: -8852159.131992813
YMin: 4555746.948672834
XMax: -8354369.131992811
YMax: 4838016.948672835
Spatial Reference: 102100
(3857)
Pixel Size X: 30.000000000000114
Pixel Size Y: 30.0000000000001
Band Count: 1
Pixel Type: F32
RasterFunction Infos: {"rasterFunctionInfos": [{
"name": "None",
"description": "",
"help": ""
}]}
Mensuration Capabilities: Basic
Has Histograms: true
Has Colormap: false
Has Multi Dimensions : false
Rendering Rule:
Min Scale: 0
Max Scale: 0
Copyright Text: MD iMAP, UMD, NASA
Service Data Type: esriImageServiceDataTypeGeneric
Min Values: 0
Max Values: 466.90777587890625
Mean Values: 152.49367559303099
Standard Deviation Values: 84.67264797333104
Object ID Field:
Fields:
None
Default Mosaic Method: Center
Allowed Mosaic Methods:
SortField:
SortValue: null
Mosaic Operator: First
Default Compression Quality: 75
Default Resampling Method: Bilinear
Max Record Count: null
Max Image Height: 4100
Max Image Width: 15000
Max Download Image Count: null
Max Mosaic Image Count: null
Allow Raster Function: true
Allow Compute TiePoints: false
Supports Statistics: false
Supports Advanced Queries: false
Use StandardizedQueries: true
Raster Type Infos:
Name: Raster Dataset
Description: Supports all ArcGIS Raster Datasets
Help:
Has Raster Attribute Table: false
Edit Fields Info: null
Ownership Based AccessControl For Rasters: null
Child Resources:
Info
Histograms
Key Properties
Legend
MultiDimensionalInfo
rasterFunctionInfos
Supported Operations:
Export Image
Identify
Measure
Compute Histograms
Compute Statistics Histograms
Get Samples
Compute Class Statistics
Query Boundary
Compute Pixel Location