{ "currentVersion": 10.71, "serviceDescription": "
Maryland aboveground biomass map (30m) generated using Random Forests regression models. High Resolution Carbon Monitoring and Modeling: A NASA CMS Phase II Study<\/SPAN><\/P> Last Updated: 2011<\/SPAN><\/P><\/DIV><\/DIV><\/DIV>",
"name": "Biota/MD_Biomass",
"description": " Maryland aboveground biomass map (30m) generated using Random Forests regression models. High Resolution Carbon Monitoring and Modeling: A NASA CMS Phase II Study<\/SPAN><\/P> Last Updated: 2011<\/SPAN><\/P><\/DIV><\/DIV><\/DIV>",
"extent": {
"xmin": -8852159.131992813,
"ymin": 4555746.948672834,
"xmax": -8354369.131992811,
"ymax": 4838016.948672835,
"spatialReference": {
"wkid": 102100,
"latestWkid": 3857
}
},
"initialExtent": {
"xmin": -8852159.131992813,
"ymin": 4555746.948672834,
"xmax": -8354369.131992811,
"ymax": 4838016.948672835,
"spatialReference": {
"wkid": 102100,
"latestWkid": 3857
}
},
"fullExtent": {
"xmin": -8852159.131992813,
"ymin": 4555746.948672834,
"xmax": -8354369.131992811,
"ymax": 4838016.948672835,
"spatialReference": {
"wkid": 102100,
"latestWkid": 3857
}
},
"pixelSizeX": 30.000000000000114,
"pixelSizeY": 30.0000000000001,
"bandCount": 1,
"pixelType": "F32",
"minPixelSize": 0,
"maxPixelSize": 0,
"copyrightText": "MD iMAP, UMD, NASA",
"serviceDataType": "esriImageServiceDataTypeGeneric",
"minValues": [
0
],
"maxValues": [
466.90777587890625
],
"meanValues": [
152.49367559303099
],
"stdvValues": [
84.67264797333104
],
"objectIdField": "",
"fields": [],
"capabilities": "Image,Metadata,Mensuration",
"defaultMosaicMethod": "Center",
"allowedMosaicMethods": "",
"sortField": "",
"sortValue": null,
"mosaicOperator": "First",
"defaultCompressionQuality": 75,
"defaultResamplingMethod": "Bilinear",
"maxImageHeight": 4100,
"maxImageWidth": 15000,
"allowRasterFunction": true,
"rasterFunctionInfos": [
{
"name": "None",
"description": "",
"help": ""
}
],
"rasterTypeInfos": [
{
"name": "Raster Dataset",
"description": "Supports all ArcGIS Raster Datasets",
"help": ""
}
],
"mensurationCapabilities": "Basic",
"hasHistograms": true,
"hasColormap": false,
"hasRasterAttributeTable": false,
"minScale": 0,
"maxScale": 0,
"exportTilesAllowed": false,
"hasMultidimensions": false,
"supportsStatistics": false,
"supportsAdvancedQueries": false,
"editFieldsInfo": null,
"ownershipBasedAccessControlForRasters": null,
"allowComputeTiePoints": false,
"useStandardizedQueries": true,
"advancedQueryCapabilities": {
"useStandardizedQueries": true,
"supportsStatistics": false,
"supportsOrderBy": false,
"supportsDistinct": false,
"supportsPagination": false
},
"spatialReference": {
"wkid": 102100,
"latestWkid": 3857
}
}