View In:
ArcGIS JavaScript
ArcGIS Online Map Viewer
ArcGIS Earth
ArcMap
View Footprint In:
ArcGIS Online Map Viewer
Service Description: Statewide tree canopy height at 30 meter resolution. For more information visit https://daac.ornl.gov/CMS/guides/CMS_Maryland_AGB_Canopy.html.
Last Updated: 2011
Name: Biota/MD_CanopyHeight
Description: Statewide tree canopy height at 30 meter resolution. For more information visit https://daac.ornl.gov/CMS/guides/CMS_Maryland_AGB_Canopy.html.
Last Updated: 2011
Single Fused Map Cache: false
Extent:
XMin: -8852159.479137821
YMin: 4555748.113951356
XMax: -8354369.479137818
YMax: 4838018.113951357
Spatial Reference: 102100
(3857)
Initial Extent:
XMin: -8852159.479137821
YMin: 4555748.113951356
XMax: -8354369.479137818
YMax: 4838018.113951357
Spatial Reference: 102100
(3857)
Full Extent:
XMin: -8852159.479137821
YMin: 4555748.113951356
XMax: -8354369.479137818
YMax: 4838018.113951357
Spatial Reference: 102100
(3857)
Pixel Size X: 30.000000000000167
Pixel Size Y: 30.0000000000001
Band Count: 1
Pixel Type: F32
RasterFunction Infos: {"rasterFunctionInfos": [{
"name": "None",
"description": "",
"help": ""
}]}
Mensuration Capabilities: Basic
Has Histograms: true
Has Colormap: false
Has Multi Dimensions : false
Rendering Rule:
Min Scale: 0
Max Scale: 0
Copyright Text: MD iMAP, University of MD
Service Data Type: esriImageServiceDataTypeGeneric
Min Values: 0
Max Values: 50
Mean Values: 14.949724917877191
Standard Deviation Values: 12.300681706110309
Object ID Field:
Fields:
None
Default Mosaic Method: Center
Allowed Mosaic Methods:
SortField:
SortValue: null
Mosaic Operator: First
Default Compression Quality: 75
Default Resampling Method: Bilinear
Max Record Count: null
Max Image Height: 4100
Max Image Width: 15000
Max Download Image Count: null
Max Mosaic Image Count: null
Allow Raster Function: true
Allow Compute TiePoints: false
Supports Statistics: false
Supports Advanced Queries: false
Use StandardizedQueries: true
Raster Type Infos:
Name: Raster Dataset
Description: Supports all ArcGIS Raster Datasets
Help:
Has Raster Attribute Table: false
Edit Fields Info: null
Ownership Based AccessControl For Rasters: null
Child Resources:
Info
Histograms
Key Properties
Legend
MultiDimensionalInfo
rasterFunctionInfos
Supported Operations:
Export Image
Identify
Measure
Compute Histograms
Compute Statistics Histograms
Get Samples
Compute Class Statistics
Query Boundary
Compute Pixel Location