{ "currentVersion": 10.71, "serviceDescription": "
Statewide tree canopy height at 30 meter resolution. For more information visit https://daac.ornl.gov/CMS/guides/CMS_Maryland_AGB_Canopy.html.<\/SPAN><\/SPAN><\/P> Last Updated: 2011<\/SPAN><\/SPAN><\/P><\/DIV><\/DIV><\/DIV>",
"name": "Biota/MD_CanopyHeight",
"description": " Statewide tree canopy height at 30 meter resolution. For more information visit https://daac.ornl.gov/CMS/guides/CMS_Maryland_AGB_Canopy.html.<\/SPAN><\/SPAN><\/P> Last Updated: 2011<\/SPAN><\/SPAN><\/P><\/DIV><\/DIV><\/DIV>",
"extent": {
"xmin": -8852159.479137821,
"ymin": 4555748.113951356,
"xmax": -8354369.479137818,
"ymax": 4838018.113951357,
"spatialReference": {
"wkid": 102100,
"latestWkid": 3857
}
},
"initialExtent": {
"xmin": -8852159.479137821,
"ymin": 4555748.113951356,
"xmax": -8354369.479137818,
"ymax": 4838018.113951357,
"spatialReference": {
"wkid": 102100,
"latestWkid": 3857
}
},
"fullExtent": {
"xmin": -8852159.479137821,
"ymin": 4555748.113951356,
"xmax": -8354369.479137818,
"ymax": 4838018.113951357,
"spatialReference": {
"wkid": 102100,
"latestWkid": 3857
}
},
"pixelSizeX": 30.000000000000167,
"pixelSizeY": 30.0000000000001,
"bandCount": 1,
"pixelType": "F32",
"minPixelSize": 0,
"maxPixelSize": 0,
"copyrightText": "MD iMAP, University of MD",
"serviceDataType": "esriImageServiceDataTypeGeneric",
"minValues": [
0
],
"maxValues": [
50
],
"meanValues": [
14.949724917877191
],
"stdvValues": [
12.300681706110309
],
"objectIdField": "",
"fields": [],
"capabilities": "Image,Metadata,Mensuration",
"defaultMosaicMethod": "Center",
"allowedMosaicMethods": "",
"sortField": "",
"sortValue": null,
"mosaicOperator": "First",
"defaultCompressionQuality": 75,
"defaultResamplingMethod": "Bilinear",
"maxImageHeight": 4100,
"maxImageWidth": 15000,
"allowRasterFunction": true,
"rasterFunctionInfos": [
{
"name": "None",
"description": "",
"help": ""
}
],
"rasterTypeInfos": [
{
"name": "Raster Dataset",
"description": "Supports all ArcGIS Raster Datasets",
"help": ""
}
],
"mensurationCapabilities": "Basic",
"hasHistograms": true,
"hasColormap": false,
"hasRasterAttributeTable": false,
"minScale": 0,
"maxScale": 0,
"exportTilesAllowed": false,
"hasMultidimensions": false,
"supportsStatistics": false,
"supportsAdvancedQueries": false,
"editFieldsInfo": null,
"ownershipBasedAccessControlForRasters": null,
"allowComputeTiePoints": false,
"useStandardizedQueries": true,
"advancedQueryCapabilities": {
"useStandardizedQueries": true,
"supportsStatistics": false,
"supportsOrderBy": false,
"supportsDistinct": false,
"supportsPagination": false
},
"spatialReference": {
"wkid": 102100,
"latestWkid": 3857
}
}