View In:
ArcGIS JavaScript
ArcGIS Online Map Viewer
ArcGIS Earth
ArcMap
ArcGIS Pro
View Footprint In:
ArcGIS Online Map Viewer
Service Description: This dataset contains information regarding upload and download internet transfer rates. The information was collected from voluntary speed tests via the Maryland Broadband Map (http://www.mdbroadbandmap.org/InteractiveMap.aspx). The information is tabulated at the census block level.
Map Name: Layers
Legend
All Layers and Tables
Dynamic Legend
Dynamic All Layers
Layers:
Description:
Copyright Text: MD iMAP, The Maryland Broadband Mapping Initiative team, led by the Maryland Broadband Cooperative
Spatial Reference:
102100
(3857)
Single Fused Map Cache: true
Tile Info:
- Height: 256
- Width: 256
- DPI: 96
-
Levels of Detail: 20
-
Level ID: 0
[ Start Tile, End Tile ]
- Resolution: 156543.03392800014
- Scale: 5.91657527591555E8
-
Level ID: 1
[ Start Tile, End Tile ]
- Resolution: 78271.51696399994
- Scale: 2.95828763795777E8
-
Level ID: 2
[ Start Tile, End Tile ]
- Resolution: 39135.75848200009
- Scale: 1.47914381897889E8
-
Level ID: 3
[ Start Tile, End Tile ]
- Resolution: 19567.87924099992
- Scale: 7.3957190948944E7
-
Level ID: 4
[ Start Tile, End Tile ]
- Resolution: 9783.93962049996
- Scale: 3.6978595474472E7
-
Level ID: 5
[ Start Tile, End Tile ]
- Resolution: 4891.96981024998
- Scale: 1.8489297737236E7
- Format: PNG32
- Compression Quality: 0.0
- Origin: X: -2.0037508342787E7
Y: 2.0037508342787E7
- Spatial Reference: 102100
(3857)
Initial Extent:
XMin: -8790274.124168191
YMin: 4675167.202963492
XMax: -8405685.438231807
YMax: 4849817.8141146265
Spatial Reference: 102100
(3857)
Full Extent:
XMin: -8848524.8337
YMin: 4563419.263800003
XMax: -8347434.728700001
YMax: 4825776.0198
Spatial Reference: 102100
(3857)
Units: esriMeters
Supported Image Format Types: PNG32,PNG24,PNG,JPG,DIB,TIFF,EMF,PS,PDF,GIF,SVG,SVGZ,BMP
Document Info:
Title: BlocksSpeeds_AvgUpload
Author: lsewell
Comments: This dataset contains information regarding upload and download internet transfer rates. The information was collected from voluntary speed tests via the Maryland Broadband Map (http://www.mdbroadbandmap.org/InteractiveMap.aspx). The information is tabulated at the census block level.
Subject: This layer contains the average upload speed (mbps) per census block.
Category:
Keywords: Broadband,Speed,Tests,Bandwidth,Mbps,Kbps,NTIA,National Telecommunications and Information Administration,Cached,Vector
AntialiasingMode: None
TextAntialiasingMode: Force
Supports Dynamic Layers: true
MaxRecordCount: 1000
MaxImageHeight: 4096
MaxImageWidth: 4096
Supported Query Formats: JSON, geoJSON
Min Scale: 5.91657527591555E8
Max Scale: 1128.497176
Supports Datum Transformation: true
Child Resources:
Info
Dynamic Layer
Supported Operations:
Export Map
Identify
QueryDomains
QueryLegends
Find
Return Updates
Generate KML