View In:
ArcGIS JavaScript
ArcGIS Online Map Viewer
ArcGIS Earth
ArcMap
ArcGIS Pro
View Footprint In:
ArcGIS Online Map Viewer
Service Description: This service displays areas where all types of wireline and wireless broadband service is available (excluding satellite). This layer was updated in October 2014. This service is intended to be used in the Maryland Broadband Map (http://www.mdbroadbandmap.org/map/).
This service represents the National Telecommunications Information Administration (NTIA) State Broadband Data Development Program (SBDD) area of broadband availability. Area of broadband availability refers to those individual US Census Blocks, less than 2 square miles, where each facilities-based provider of broadband service can provide broadband services of minimal characteristics within 7 - 10 business days. For each area (e.g. census block less than 2 square miles) the provider name and technology they provide there are represented. In addition, advertised and typical upload and download speeds are often reported at these levels. If a provider offers availability to any location within a census block less than 2 square miles, the entire block is deemed available under this effort. For this purpose, ''broadband service'' is the provision, on either a commercial or non-commercial basis, of data transmission technology that provides two-way data transmission to and from the Internet with advertised speeds of at least 768 kilobits per second (kbps) downstream and greater than 200 kbps upstream to end users, or providing sufficient capacity in a middle mile project to support the provision of broadband service to end-users within the project area. For this purpose, an ''end user'' of broadband service is a residential or business party, institution or State or local government entity that may use broadband service for its own purposes and that does not resell such service to other entities or incorporate such service into retail Internet-access services. Internet Service Providers (ISPs) are not ''end users'' for this purpose. An entity is a ''facilities based'' provider of broadband service connections to end user locations if any of the following conditions are met: (1) It owns the portion of the physical facility that terminates at the end user location; (2) it obtains unbundled network elements (UNEs), special access lines, or other leased facilities that terminate at the end user location and provisions/equips them as broadband; or (3) it provisions/equips a broadband wireless channel to the end user location over licensed or unlicensed spectrum. For this purpose, ''broadband service'' is ''available'' at an address if the provider does, or could, within a typical service interval (7 to 10 business days) without an extraordinary commitment of resources, provision two-way data transmission to and from the Internet with advertised speeds of at least 768 kilobits per second (kbps) downstream and greater than 200 kbps upstream to end-users at that address. For additional information visit NOFA (Notice of Funding Availability) website: http://www.ntia.doc.gov/broadbandgrants/nofa.html
Map Name: Layers
Legend
All Layers and Tables
Dynamic Legend
Dynamic All Layers
Layers:
Description:
Copyright Text: MD iMAP, The Maryland Broadband Mapping Initiative team, led by the Maryland Broadband Cooperative
Spatial Reference:
102100
(3857)
Single Fused Map Cache: true
Tile Info:
- Height: 256
- Width: 256
- DPI: 96
-
Levels of Detail: 20
-
Level ID: 0
[ Start Tile, End Tile ]
- Resolution: 156543.03392800014
- Scale: 5.91657527591555E8
-
Level ID: 1
[ Start Tile, End Tile ]
- Resolution: 78271.51696399994
- Scale: 2.95828763795777E8
-
Level ID: 2
[ Start Tile, End Tile ]
- Resolution: 39135.75848200009
- Scale: 1.47914381897889E8
-
Level ID: 3
[ Start Tile, End Tile ]
- Resolution: 19567.87924099992
- Scale: 7.3957190948944E7
-
Level ID: 4
[ Start Tile, End Tile ]
- Resolution: 9783.93962049996
- Scale: 3.6978595474472E7
-
Level ID: 5
[ Start Tile, End Tile ]
- Resolution: 4891.96981024998
- Scale: 1.8489297737236E7
- Format: PNG32
- Compression Quality: 0.0
- Origin: X: -2.0037508342787E7
Y: 2.0037508342787E7
- Spatial Reference: 102100
(3857)
Initial Extent:
XMin: -8716453.390143296
YMin: 4702435.072103551
XMax: -8374743.331723181
YMax: 4857613.507460421
Spatial Reference: 102100
(3857)
Full Extent:
XMin: -8768883.6417
YMin: 4588973.1862
XMax: -8355048.536599999
YMax: 4822977.730899997
Spatial Reference: 102100
(3857)
Units: esriMeters
Supported Image Format Types: PNG32,PNG24,PNG,JPG,DIB,TIFF,EMF,PS,PDF,GIF,SVG,SVGZ,BMP
Document Info:
Title: BB_AllBroadband
Author: clbell
Comments: This service displays areas where all types of wireline and wireless broadband service is available (excluding satellite). This layer was updated in October 2014. This service is intended to be used in the Maryland Broadband Map (http://www.mdbroadbandmap.org/map/).
This service represents the National Telecommunications Information Administration (NTIA) State Broadband Data Development Program (SBDD) area of broadband availability. Area of broadband availability refers to those individual US Census Blocks, less than 2 square miles, where each facilities-based provider of broadband service can provide broadband services of minimal characteristics within 7 - 10 business days. For each area (e.g. census block less than 2 square miles) the provider name and technology they provide there are represented. In addition, advertised and typical upload and download speeds are often reported at these levels. If a provider offers availability to any location within a census block less than 2 square miles, the entire block is deemed available under this effort. For this purpose, ''broadband service'' is the provision, on either a commercial or non-commercial basis, of data transmission technology that provides two-way data transmission to and from the Internet with advertised speeds of at least 768 kilobits per second (kbps) downstream and greater than 200 kbps upstream to end users, or providing sufficient capacity in a middle mile project to support the provision of broadband service to end-users within the project area. For this purpose, an ''end user'' of broadband service is a residential or business party, institution or State or local government entity that may use broadband service for its own purposes and that does not resell such service to other entities or incorporate such service into retail Internet-access services. Internet Service Providers (ISPs) are not ''end users'' for this purpose. An entity is a ''facilities based'' provider of broadband service connections to end user locations if any of the following conditions are met: (1) It owns the portion of the physical facility that terminates at the end user location; (2) it obtains unbundled network elements (UNEs), special access lines, or other leased facilities that terminate at the end user location and provisions/equips them as broadband; or (3) it provisions/equips a broadband wireless channel to the end user location over licensed or unlicensed spectrum. For this purpose, ''broadband service'' is ''available'' at an address if the provider does, or could, within a typical service interval (7 to 10 business days) without an extraordinary commitment of resources, provision two-way data transmission to and from the Internet with advertised speeds of at least 768 kilobits per second (kbps) downstream and greater than 200 kbps upstream to end-users at that address. For additional information visit NOFA (Notice of Funding Availability) website: http://www.ntia.doc.gov/broadbandgrants/nofa.html
Subject: This service displays areas where all types of wireline and wireless broadband service is available (excluding satellite). This layer was updated in October 2014.
Category:
Keywords: Utilities,Communication,Copper,Wireline,Broadband,NTIA,National Telecommunications Information Administration,cached ,Maryland,MD iMap
AntialiasingMode: None
TextAntialiasingMode: Force
Supports Dynamic Layers: true
MaxRecordCount: 1000
MaxImageHeight: 4096
MaxImageWidth: 4096
Supported Query Formats: JSON, geoJSON
Min Scale: 5.91657527591555E8
Max Scale: 1128.497176
Supports Datum Transformation: true
Child Resources:
Info
Dynamic Layer
Supported Operations:
Export Map
Identify
QueryDomains
QueryLegends
Find
Return Updates
Generate KML